BEGIN:VCALENDAR
VERSION:2.0
PRODID:DPCALENDAR
CALSCALE:GREGORIAN
BEGIN:VTIMEZONE
TZID:America/Denver
X-MICROSOFT-CDO-TZID:12
BEGIN:STANDARD
DTSTART:20251102T080000
TZOFFSETFROM:-0600
TZOFFSETTO:-0700
TZNAME:MST
END:STANDARD
BEGIN:DAYLIGHT
DTSTART:20260308T090000
TZOFFSETFROM:-0700
TZOFFSETTO:-0600
TZNAME:MDT
END:DAYLIGHT
BEGIN:STANDARD
DTSTART:20261101T080000
TZOFFSETFROM:-0600
TZOFFSETTO:-0700
TZNAME:MST
END:STANDARD
END:VTIMEZONE
X-WR-TIMEZONE:America/Denver
BEGIN:VEVENT
DTSTART;TZID=America/Denver:20260424T150000
DTEND;TZID=America/Denver:20260424T190000
UID:1c7thfiked7li2cbpbjrotqu7r@google.com
SUMMARY:High School Baseball at Lockwood (V 3:00, JV 5:00)
DTSTAMP:20260209T222850Z
DESCRIPTION:
X-ALT-DESC;FMTTYPE=text/html:
LAST-MODIFIED:20260209T222850Z
X-ACCESS:1
X-HITS:0
X-URL:https://www.google.com/calendar/event?eid=MWM3dGhmaWtlZDdsaTJjYnBianJvdHF1N3Igam9saWV0LmsxMi5tdC51c19mdjFtY25jZTI3cDc1cGJxczdpYTQ0YmNhNEBn
X-COLOR:16a765
END:VEVENT
END:VCALENDAR