BEGIN:VCALENDAR
VERSION:2.0
PRODID:DPCALENDAR
CALSCALE:GREGORIAN
BEGIN:VTIMEZONE
TZID:America/Denver
X-MICROSOFT-CDO-TZID:12
BEGIN:STANDARD
DTSTART:20251102T080000
TZOFFSETFROM:-0600
TZOFFSETTO:-0700
TZNAME:MST
END:STANDARD
BEGIN:DAYLIGHT
DTSTART:20260308T090000
TZOFFSETFROM:-0700
TZOFFSETTO:-0600
TZNAME:MDT
END:DAYLIGHT
BEGIN:STANDARD
DTSTART:20261101T080000
TZOFFSETFROM:-0600
TZOFFSETTO:-0700
TZNAME:MST
END:STANDARD
END:VTIMEZONE
X-WR-TIMEZONE:America/Denver
BEGIN:VEVENT
DTSTART;TZID=America/Denver:20260420T180000
DTEND;TZID=America/Denver:20260420T213000
UID:203h3uplahf2tm5pb8h71jm9vd@google.com
RECURRENCE-ID:20260421T000000Z
SUMMARY:Honor Band Practice - Central
DTSTAMP:20260112T202442Z
DESCRIPTION:
X-ALT-DESC;FMTTYPE=text/html:
LAST-MODIFIED:20260216T225341Z
X-ACCESS:1
X-HITS:0
X-URL:https://www.google.com/calendar/event?eid=MjAzaDN1cGxhaGYydG01cGI4aDcxam05dmRfMjAyNjA0MjFUMDAwMDAwWiBqb2xpZXQuazEyLm10LnVzX2Z2MW1jbmNlMjdwNzVwYnFzN2lhNDRiY2E0QGc
X-COLOR:16a765
END:VEVENT
END:VCALENDAR